Workbook

Sheet Buku Pesanan
A1: BUKU PESANAN
A2: Satu baris per barang dalam satu SO. Kalau DP atau pembayaran untuk seluruh pesanan, tulis di baris pertama pesanan itu saja.
A4: No. SO | B4: Tanggal | C4: Pelanggan | D4: No. PO | E4: Barang | F4: Satuan | G4: Dipesan | H4: Dikirim | I4: Sisa kirim | J4: Harga satuan (Rp) | K4: Nilai pesanan (Rp) | L4: Nilai belum dikirim (Rp) | M4: DP diterima (Rp) | N4: Sudah dibayar (Rp) | O4: Sisa tagihan (Rp) | P4: Janji kirim | Q4: Status | R4: Terlambat?
A5: SO/2026/07/024 | B5: 46215 | C5: Warung Bu Sri | D5: PO-WBS-072 | E5: Beras Premium 5 kg | F5: karung | G5: 25 | H5: 25 | I5: =IF(G5="","",G5-N(H5)) | J5: 62000 | K5: =IF(G5="","",G5*J5) | L5: =IF(G5="","",I5*J5) | M5: 0 | N5: 0 | O5: =IF(G5="","",K5-N(M5)-N(N5)) | P5: 46215 | Q5: =IF(G5="","",IF(I5<=0,"Terkirim",IF(N(H5)=0,"Belum dikirim","Kirim sebagian"))) | R5: =IF(OR(G5="",P5=""),"",IF(AND(I5>0,P5<TODAY()),"Terlambat",""))
A6: SO/2026/07/024 | B6: 46215 | C6: Warung Bu Sri | D6: PO-WBS-072 | E6: Minyak Goreng 2 L | F6: dus | G6: 12 | H6: 12 | I6: =IF(G6="","",G6-N(H6)) | J6: 168000 | K6: =IF(G6="","",G6*J6) | L6: =IF(G6="","",I6*J6) | M6: 0 | N6: 0 | O6: =IF(G6="","",K6-N(M6)-N(N6)) | P6: 46215 | Q6: =IF(G6="","",IF(I6<=0,"Terkirim",IF(N(H6)=0,"Belum dikirim","Kirim sebagian"))) | R6: =IF(OR(G6="",P6=""),"",IF(AND(I6>0,P6<TODAY()),"Terlambat",""))
A7: SO/2026/07/024 | B7: 46215 | C7: Warung Bu Sri | D7: PO-WBS-072 | E7: Gula Pasir 1 kg | F7: pak | G7: 30 | H7: 30 | I7: =IF(G7="","",G7-N(H7)) | J7: 15500 | K7: =IF(G7="","",G7*J7) | L7: =IF(G7="","",I7*J7) | M7: 0 | N7: 0 | O7: =IF(G7="","",K7-N(M7)-N(N7)) | P7: 46215 | Q7: =IF(G7="","",IF(I7<=0,"Terkirim",IF(N(H7)=0,"Belum dikirim","Kirim sebagian"))) | R7: =IF(OR(G7="",P7=""),"",IF(AND(I7>0,P7<TODAY()),"Terlambat",""))
A8: SO/2026/07/027 | B8: 46218 | C8: Toko Makmur | D8: PO-TM-118 | E8: Minyak Goreng 2 L | F8: dus | G8: 20 | H8: 12 | I8: =IF(G8="","",G8-N(H8)) | J8: 168000 | K8: =IF(G8="","",G8*J8) | L8: =IF(G8="","",I8*J8) | M8: 1000000 | N8: 0 | O8: =IF(G8="","",K8-N(M8)-N(N8)) | P8: 46220 | Q8: =IF(G8="","",IF(I8<=0,"Terkirim",IF(N(H8)=0,"Belum dikirim","Kirim sebagian"))) | R8: =IF(OR(G8="",P8=""),"",IF(AND(I8>0,P8<TODAY()),"Terlambat",""))
A9: SO/2026/07/029 | B9: 46221 | C9: Warung Pak Andi | D9: via WA | E9: Beras Premium 5 kg | F9: karung | G9: 10 | H9: 0 | I9: =IF(G9="","",G9-N(H9)) | J9: 62000 | K9: =IF(G9="","",G9*J9) | L9: =IF(G9="","",I9*J9) | M9: 0 | N9: 0 | O9: =IF(G9="","",K9-N(M9)-N(N9)) | P9: 46223 | Q9: =IF(G9="","",IF(I9<=0,"Terkirim",IF(N(H9)=0,"Belum dikirim","Kirim sebagian"))) | R9: =IF(OR(G9="",P9=""),"",IF(AND(I9>0,P9<TODAY()),"Terlambat",""))
A10: SO/2026/07/029 | B10: 46221 | C10: Warung Pak Andi | D10: via WA | E10: Gula Pasir 1 kg | F10: pak | G10: 20 | H10: 0 | I10: =IF(G10="","",G10-N(H10)) | J10: 15500 | K10: =IF(G10="","",G10*J10) | L10: =IF(G10="","",I10*J10) | M10: 0 | N10: 0 | O10: =IF(G10="","",K10-N(M10)-N(N10)) | P10: 46223 | Q10: =IF(G10="","",IF(I10<=0,"Terkirim",IF(N(H10)=0,"Belum dikirim","Kirim sebagian"))) | R10: =IF(OR(G10="",P10=""),"",IF(AND(I10>0,P10<TODAY()),"Terlambat",""))
A11: SO/2026/07/030 | B11: 46224 | C11: Warung Bu Sri | D11: PO-WBS-079 | E11: Minyak Goreng 2 L | F11: dus | G11: 8 | H11: 8 | I11: =IF(G11="","",G11-N(H11)) | J11: 168000 | K11: =IF(G11="","",G11*J11) | L11: =IF(G11="","",I11*J11) | M11: 0 | N11: 1344000 | O11: =IF(G11="","",K11-N(M11)-N(N11)) | P11: 46224 | Q11: =IF(G11="","",IF(I11<=0,"Terkirim",IF(N(H11)=0,"Belum dikirim","Kirim sebagian"))) | R11: =IF(OR(G11="",P11=""),"",IF(AND(I11>0,P11<TODAY()),"Terlambat",""))
I12: =IF(G12="","",G12-N(H12)) | K12: =IF(G12="","",G12*J12) | L12: =IF(G12="","",I12*J12) | O12: =IF(G12="","",K12-N(M12)-N(N12)) | Q12: =IF(G12="","",IF(I12<=0,"Terkirim",IF(N(H12)=0,"Belum dikirim","Kirim sebagian"))) | R12: =IF(OR(G12="",P12=""),"",IF(AND(I12>0,P12<TODAY()),"Terlambat",""))
I13: =IF(G13="","",G13-N(H13)) | K13: =IF(G13="","",G13*J13) | L13: =IF(G13="","",I13*J13) | O13: =IF(G13="","",K13-N(M13)-N(N13)) | Q13: =IF(G13="","",IF(I13<=0,"Terkirim",IF(N(H13)=0,"Belum dikirim","Kirim sebagian"))) | R13: =IF(OR(G13="",P13=""),"",IF(AND(I13>0,P13<TODAY()),"Terlambat",""))
I14: =IF(G14="","",G14-N(H14)) | K14: =IF(G14="","",G14*J14) | L14: =IF(G14="","",I14*J14) | O14: =IF(G14="","",K14-N(M14)-N(N14)) | Q14: =IF(G14="","",IF(I14<=0,"Terkirim",IF(N(H14)=0,"Belum dikirim","Kirim sebagian"))) | R14: =IF(OR(G14="",P14=""),"",IF(AND(I14>0,P14<TODAY()),"Terlambat",""))
I15: =IF(G15="","",G15-N(H15)) | K15: =IF(G15="","",G15*J15) | L15: =IF(G15="","",I15*J15) | O15: =IF(G15="","",K15-N(M15)-N(N15)) | Q15: =IF(G15="","",IF(I15<=0,"Terkirim",IF(N(H15)=0,"Belum dikirim","Kirim sebagian"))) | R15: =IF(OR(G15="",P15=""),"",IF(AND(I15>0,P15<TODAY()),"Terlambat",""))
I16: =IF(G16="","",G16-N(H16)) | K16: =IF(G16="","",G16*J16) | L16: =IF(G16="","",I16*J16) | O16: =IF(G16="","",K16-N(M16)-N(N16)) | Q16: =IF(G16="","",IF(I16<=0,"Terkirim",IF(N(H16)=0,"Belum dikirim","Kirim sebagian"))) | R16: =IF(OR(G16="",P16=""),"",IF(AND(I16>0,P16<TODAY()),"Terlambat",""))
I17: =IF(G17="","",G17-N(H17)) | K17: =IF(G17="","",G17*J17) | L17: =IF(G17="","",I17*J17) | O17: =IF(G17="","",K17-N(M17)-N(N17)) | Q17: =IF(G17="","",IF(I17<=0,"Terkirim",IF(N(H17)=0,"Belum dikirim","Kirim sebagian"))) | R17: =IF(OR(G17="",P17=""),"",IF(AND(I17>0,P17<TODAY()),"Terlambat",""))
I18: =IF(G18="","",G18-N(H18)) | K18: =IF(G18="","",G18*J18) | L18: =IF(G18="","",I18*J18) | O18: =IF(G18="","",K18-N(M18)-N(N18)) | Q18: =IF(G18="","",IF(I18<=0,"Terkirim",IF(N(H18)=0,"Belum dikirim","Kirim sebagian"))) | R18: =IF(OR(G18="",P18=""),"",IF(AND(I18>0,P18<TODAY()),"Terlambat",""))
I19: =IF(G19="","",G19-N(H19)) | K19: =IF(G19="","",G19*J19) | L19: =IF(G19="","",I19*J19) | O19: =IF(G19="","",K19-N(M19)-N(N19)) | Q19: =IF(G19="","",IF(I19<=0,"Terkirim",IF(N(H19)=0,"Belum dikirim","Kirim sebagian"))) | R19: =IF(OR(G19="",P19=""),"",IF(AND(I19>0,P19<TODAY()),"Terlambat",""))
I20: =IF(G20="","",G20-N(H20)) | K20: =IF(G20="","",G20*J20) | L20: =IF(G20="","",I20*J20) | O20: =IF(G20="","",K20-N(M20)-N(N20)) | Q20: =IF(G20="","",IF(I20<=0,"Terkirim",IF(N(H20)=0,"Belum dikirim","Kirim sebagian"))) | R20: =IF(OR(G20="",P20=""),"",IF(AND(I20>0,P20<TODAY()),"Terlambat",""))
I21: =IF(G21="","",G21-N(H21)) | K21: =IF(G21="","",G21*J21) | L21: =IF(G21="","",I21*J21) | O21: =IF(G21="","",K21-N(M21)-N(N21)) | Q21: =IF(G21="","",IF(I21<=0,"Terkirim",IF(N(H21)=0,"Belum dikirim","Kirim sebagian"))) | R21: =IF(OR(G21="",P21=""),"",IF(AND(I21>0,P21<TODAY()),"Terlambat",""))
I22: =IF(G22="","",G22-N(H22)) | K22: =IF(G22="","",G22*J22) | L22: =IF(G22="","",I22*J22) | O22: =IF(G22="","",K22-N(M22)-N(N22)) | Q22: =IF(G22="","",IF(I22<=0,"Terkirim",IF(N(H22)=0,"Belum dikirim","Kirim sebagian"))) | R22: =IF(OR(G22="",P22=""),"",IF(AND(I22>0,P22<TODAY()),"Terlambat",""))
I23: =IF(G23="","",G23-N(H23)) | K23: =IF(G23="","",G23*J23) | L23: =IF(G23="","",I23*J23) | O23: =IF(G23="","",K23-N(M23)-N(N23)) | Q23: =IF(G23="","",IF(I23<=0,"Terkirim",IF(N(H23)=0,"Belum dikirim","Kirim sebagian"))) | R23: =IF(OR(G23="",P23=""),"",IF(AND(I23>0,P23<TODAY()),"Terlambat",""))
... I51: =IF(G51="","",G51-N(H51)) | K51: =IF(G51="","",G51*J51) | L51: =IF(G51="","",I51*J51) | O51: =IF(G51="","",K51-N(M51)-N(N51)) | Q51: =IF(G51="","",IF(I51<=0,"Terkirim",IF(N(H51)=0,"Belum dikirim","Kirim sebagian"))) | R51: =IF(OR(G51="",P51=""),"",IF(AND(I51>0,P51<TODAY()),"Terlambat",""))
J52: TOTAL | K52: =SUM(K5:K51) | L52: =SUM(L5:L51) | M52: =SUM(M5:M51) | N52: =SUM(N5:N51) | O52: =SUM(O5:O51)
A54: Tujuh baris pertama adalah contoh dari artikel (Toko Berkah Jaya, Juli 2026) - hapus lalu isi dengan pesananmu sendiri. Kolom abu-abu terisi sendiri.
A55: Tanggal ditulis DD/MM/YYYY. Kolom Terlambat? menyala kalau tanggal janji kirim sudah lewat dan barangnya belum lengkap.
A56: Template gratis dari Niagawan — niagawan.com

Sheet Rekap
A1: REKAP PESANAN
A2: Terisi sendiri dari sheet Buku Pesanan.
A4: Ringkasan
A5: Baris barang yang belum lengkap dikirim | B5: =COUNTIF('Buku Pesanan'!$I$5:$I$51,">0")
A6: Nilai barang yang belum dikirim | B6: =SUM('Buku Pesanan'!$L$5:$L$51)
A7: Total DP diterima | B7: =SUM('Buku Pesanan'!$M$5:$M$51)
A8: Total sisa tagihan pesanan | B8: =SUM('Buku Pesanan'!$O$5:$O$51)
A9: Baris yang terlambat dikirim | B9: =COUNTIF('Buku Pesanan'!$R$5:$R$51,"Terlambat")
A11: Per pelanggan (ketik nama persis seperti di Buku Pesanan)
A12: Pelanggan | B12: Nilai pesanan (Rp) | C12: DP diterima (Rp) | D12: Sudah dibayar (Rp) | E12: Sisa tagihan (Rp) | F12: Belum dikirim (Rp)
A13: Warung Bu Sri | B13: =IF(A13="","",SUMIF('Buku Pesanan'!$C$5:$C$51,A13,'Buku Pesanan'!$K$5:$K$51)) | C13: =IF(A13="","",SUMIF('Buku Pesanan'!$C$5:$C$51,A13,'Buku Pesanan'!$M$5:$M$51)) | D13: =IF(A13="","",SUMIF('Buku Pesanan'!$C$5:$C$51,A13,'Buku Pesanan'!$N$5:$N$51)) | E13: =IF(A13="","",SUMIF('Buku Pesanan'!$C$5:$C$51,A13,'Buku Pesanan'!$O$5:$O$51)) | F13: =IF(A13="","",SUMIF('Buku Pesanan'!$C$5:$C$51,A13,'Buku Pesanan'!$L$5:$L$51))
A14: Toko Makmur | B14: =IF(A14="","",SUMIF('Buku Pesanan'!$C$5:$C$51,A14,'Buku Pesanan'!$K$5:$K$51)) | C14: =IF(A14="","",SUMIF('Buku Pesanan'!$C$5:$C$51,A14,'Buku Pesanan'!$M$5:$M$51)) | D14: =IF(A14="","",SUMIF('Buku Pesanan'!$C$5:$C$51,A14,'Buku Pesanan'!$N$5:$N$51)) | E14: =IF(A14="","",SUMIF('Buku Pesanan'!$C$5:$C$51,A14,'Buku Pesanan'!$O$5:$O$51)) | F14: =IF(A14="","",SUMIF('Buku Pesanan'!$C$5:$C$51,A14,'Buku Pesanan'!$L$5:$L$51))
A15: Warung Pak Andi | B15: =IF(A15="","",SUMIF('Buku Pesanan'!$C$5:$C$51,A15,'Buku Pesanan'!$K$5:$K$51)) | C15: =IF(A15="","",SUMIF('Buku Pesanan'!$C$5:$C$51,A15,'Buku Pesanan'!$M$5:$M$51)) | D15: =IF(A15="","",SUMIF('Buku Pesanan'!$C$5:$C$51,A15,'Buku Pesanan'!$N$5:$N$51)) | E15: =IF(A15="","",SUMIF('Buku Pesanan'!$C$5:$C$51,A15,'Buku Pesanan'!$O$5:$O$51)) | F15: =IF(A15="","",SUMIF('Buku Pesanan'!$C$5:$C$51,A15,'Buku Pesanan'!$L$5:$L$51))
B16: =IF(A16="","",SUMIF('Buku Pesanan'!$C$5:$C$51,A16,'Buku Pesanan'!$K$5:$K$51)) | C16: =IF(A16="","",SUMIF('Buku Pesanan'!$C$5:$C$51,A16,'Buku Pesanan'!$M$5:$M$51)) | D16: =IF(A16="","",SUMIF('Buku Pesanan'!$C$5:$C$51,A16,'Buku Pesanan'!$N$5:$N$51)) | E16: =IF(A16="","",SUMIF('Buku Pesanan'!$C$5:$C$51,A16,'Buku Pesanan'!$O$5:$O$51)) | F16: =IF(A16="","",SUMIF('Buku Pesanan'!$C$5:$C$51,A16,'Buku Pesanan'!$L$5:$L$51))
B17: =IF(A17="","",SUMIF('Buku Pesanan'!$C$5:$C$51,A17,'Buku Pesanan'!$K$5:$K$51)) | C17: =IF(A17="","",SUMIF('Buku Pesanan'!$C$5:$C$51,A17,'Buku Pesanan'!$M$5:$M$51)) | D17: =IF(A17="","",SUMIF('Buku Pesanan'!$C$5:$C$51,A17,'Buku Pesanan'!$N$5:$N$51)) | E17: =IF(A17="","",SUMIF('Buku Pesanan'!$C$5:$C$51,A17,'Buku Pesanan'!$O$5:$O$51)) | F17: =IF(A17="","",SUMIF('Buku Pesanan'!$C$5:$C$51,A17,'Buku Pesanan'!$L$5:$L$51))
B18: =IF(A18="","",SUMIF('Buku Pesanan'!$C$5:$C$51,A18,'Buku Pesanan'!$K$5:$K$51)) | C18: =IF(A18="","",SUMIF('Buku Pesanan'!$C$5:$C$51,A18,'Buku Pesanan'!$M$5:$M$51)) | D18: =IF(A18="","",SUMIF('Buku Pesanan'!$C$5:$C$51,A18,'Buku Pesanan'!$N$5:$N$51)) | E18: =IF(A18="","",SUMIF('Buku Pesanan'!$C$5:$C$51,A18,'Buku Pesanan'!$O$5:$O$51)) | F18: =IF(A18="","",SUMIF('Buku Pesanan'!$C$5:$C$51,A18,'Buku Pesanan'!$L$5:$L$51))
B19: =IF(A19="","",SUMIF('Buku Pesanan'!$C$5:$C$51,A19,'Buku Pesanan'!$K$5:$K$51)) | C19: =IF(A19="","",SUMIF('Buku Pesanan'!$C$5:$C$51,A19,'Buku Pesanan'!$M$5:$M$51)) | D19: =IF(A19="","",SUMIF('Buku Pesanan'!$C$5:$C$51,A19,'Buku Pesanan'!$N$5:$N$51)) | E19: =IF(A19="","",SUMIF('Buku Pesanan'!$C$5:$C$51,A19,'Buku Pesanan'!$O$5:$O$51)) | F19: =IF(A19="","",SUMIF('Buku Pesanan'!$C$5:$C$51,A19,'Buku Pesanan'!$L$5:$L$51))
B20: =IF(A20="","",SUMIF('Buku Pesanan'!$C$5:$C$51,A20,'Buku Pesanan'!$K$5:$K$51)) | C20: =IF(A20="","",SUMIF('Buku Pesanan'!$C$5:$C$51,A20,'Buku Pesanan'!$M$5:$M$51)) | D20: =IF(A20="","",SUMIF('Buku Pesanan'!$C$5:$C$51,A20,'Buku Pesanan'!$N$5:$N$51)) | E20: =IF(A20="","",SUMIF('Buku Pesanan'!$C$5:$C$51,A20,'Buku Pesanan'!$O$5:$O$51)) | F20: =IF(A20="","",SUMIF('Buku Pesanan'!$C$5:$C$51,A20,'Buku Pesanan'!$L$5:$L$51))
B21: =IF(A21="","",SUMIF('Buku Pesanan'!$C$5:$C$51,A21,'Buku Pesanan'!$K$5:$K$51)) | C21: =IF(A21="","",SUMIF('Buku Pesanan'!$C$5:$C$51,A21,'Buku Pesanan'!$M$5:$M$51)) | D21: =IF(A21="","",SUMIF('Buku Pesanan'!$C$5:$C$51,A21,'Buku Pesanan'!$N$5:$N$51)) | E21: =IF(A21="","",SUMIF('Buku Pesanan'!$C$5:$C$51,A21,'Buku Pesanan'!$O$5:$O$51)) | F21: =IF(A21="","",SUMIF('Buku Pesanan'!$C$5:$C$51,A21,'Buku Pesanan'!$L$5:$L$51))
B22: =IF(A22="","",SUMIF('Buku Pesanan'!$C$5:$C$51,A22,'Buku Pesanan'!$K$5:$K$51)) | C22: =IF(A22="","",SUMIF('Buku Pesanan'!$C$5:$C$51,A22,'Buku Pesanan'!$M$5:$M$51)) | D22: =IF(A22="","",SUMIF('Buku Pesanan'!$C$5:$C$51,A22,'Buku Pesanan'!$N$5:$N$51)) | E22: =IF(A22="","",SUMIF('Buku Pesanan'!$C$5:$C$51,A22,'Buku Pesanan'!$O$5:$O$51)) | F22: =IF(A22="","",SUMIF('Buku Pesanan'!$C$5:$C$51,A22,'Buku Pesanan'!$L$5:$L$51))
A24: Pesanan bukan penjualan. Penjualan baru tercatat waktu barang dikirim dan invoice dibuat; DP adalah uang muka, bukan omzet.
A26: Template gratis dari Niagawan — niagawan.com
